BEGIN:VCALENDAR
VERSION:2.0
PRODID:-//hacksw/handcal//NONSGML v1.0//EN
BEGIN:VEVENT
SUMMARY:OLERON RC - ARCB
UID:f6d70b50-13b2-40de-b8a9-77040ebae304
DTSTART:20260308T143000Z
DTEND:20260308T230000Z
LOCATION:Localisation   
CATEGORIES:Sportif
STATUS:
URL;VALUE=URI:https://www.arcbvalvert.fr/evenements/2026/03/08/oleron-rc-arcb-2421425
END:VEVENT
END:VCALENDAR
