BEGIN:VCALENDAR
VERSION:2.0
PRODID:-//hacksw/handcal//NONSGML v1.0//EN
BEGIN:VEVENT
SUMMARY:CLUB OVALIE du BOCAGE - ARCB
UID:b97413de-738d-4782-8c85-3ee2b7c8ba1e
DTSTART:20260329T133000Z
DTEND:20260329T230000Z
LOCATION:Localisation   
CATEGORIES:Sportif
STATUS:
URL;VALUE=URI:https://www.arcbvalvert.fr/evenements/2026/03/29/club-ovalie-du-bocage-arcb-2421430
END:VEVENT
END:VCALENDAR
